BEGIN:VCALENDAR
VERSION:2.0
PRODID:-//Franklin VNA &amp; Hospice - ECPv6.15.18//NONSGML v1.0//EN
CALSCALE:GREGORIAN
METHOD:PUBLISH
X-ORIGINAL-URL:https://franklinvna.org
X-WR-CALDESC:Events for Franklin VNA &amp; Hospice
REFRESH-INTERVAL;VALUE=DURATION:PT1H
X-Robots-Tag:noindex
X-PUBLISHED-TTL:PT1H
BEGIN:VTIMEZONE
TZID:UTC
BEGIN:STANDARD
TZOFFSETFROM:+0000
TZOFFSETTO:+0000
TZNAME:UTC
DTSTART:20250101T000000
END:STANDARD
END:VTIMEZONE
BEGIN:VEVENT
DTSTART;TZID=UTC:20260715T090000
DTEND;TZID=UTC:20260715T150000
DTSTAMP:20260420T162105
CREATED:20231130T152239Z
LAST-MODIFIED:20231204T181706Z
UID:10000867-1784106000-1784127600@franklinvna.org
SUMMARY:Foot Clinics Franklin VNA
DESCRIPTION:Every Wednesday Foot Clinics at Franklin VNA and Hospice from 9am-3pm
URL:https://franklinvna.org/event/foot-clinics-franklin-vna/2026-07-15/
LOCATION:Franklin VNA and Hospice
END:VEVENT
BEGIN:VEVENT
DTSTART;TZID=UTC:20260716T103000
DTEND;TZID=UTC:20260716T113000
DTSTAMP:20260420T162105
CREATED:20231130T151643Z
LAST-MODIFIED:20231204T181358Z
UID:10000522-1784197800-1784201400@franklinvna.org
SUMMARY:Blood Pressure Clinic ( Tilton Senior Center)
DESCRIPTION:Third Thursday of the month Blood Pressure Clinic
URL:https://franklinvna.org/event/blood-pressure-clinic-tilton-senior-center/2026-07-16/
LOCATION:Grange Rd\, Tilton
END:VEVENT
BEGIN:VEVENT
DTSTART;TZID=UTC:20260717T130000
DTEND;TZID=UTC:20260717T150000
DTSTAMP:20260420T162105
CREATED:20250113T200344Z
LAST-MODIFIED:20250113T200349Z
UID:10001165-1784293200-1784300400@franklinvna.org
SUMMARY:Drop-In Friday Social Worker Sessions
DESCRIPTION:
URL:https://franklinvna.org/event/drop-in-friday-social-worker-sessions/2026-07-17/
LOCATION:Franklin VNA and Hospice
END:VEVENT
BEGIN:VEVENT
DTSTART;TZID=UTC:20260721T080000
DTEND;TZID=UTC:20260721T170000
DTSTAMP:20260420T162105
CREATED:20250113T195809Z
LAST-MODIFIED:20250113T195812Z
UID:10001133-1784620800-1784653200@franklinvna.org
SUMMARY:Drop-In Grief Group
DESCRIPTION:
URL:https://franklinvna.org/event/drop-in-grief-group/2026-07-21/
LOCATION:Franklin VNA and Hospice
END:VEVENT
BEGIN:VEVENT
DTSTART;TZID=UTC:20260722T090000
DTEND;TZID=UTC:20260722T150000
DTSTAMP:20260420T162105
CREATED:20231130T152239Z
LAST-MODIFIED:20231204T181706Z
UID:10000868-1784710800-1784732400@franklinvna.org
SUMMARY:Foot Clinics Franklin VNA
DESCRIPTION:Every Wednesday Foot Clinics at Franklin VNA and Hospice from 9am-3pm
URL:https://franklinvna.org/event/foot-clinics-franklin-vna/2026-07-22/
LOCATION:Franklin VNA and Hospice
END:VEVENT
BEGIN:VEVENT
DTSTART;TZID=UTC:20260728T103000
DTEND;TZID=UTC:20260728T113000
DTSTAMP:20260420T162105
CREATED:20231130T151918Z
LAST-MODIFIED:20231204T181000Z
UID:10000642-1785234600-1785238200@franklinvna.org
SUMMARY:Blood Pressure Clinic ( Trip Center Franklin)
DESCRIPTION:Fourth Tuesday of the month Blood Pressure Clinic
URL:https://franklinvna.org/event/blood-pressure-clinic-trip-center-franklin/2026-07-28/
LOCATION:Tripp Center\, 12 Rowell Dr\, Franklin\, New Hampshire\, United States
END:VEVENT
BEGIN:VEVENT
DTSTART;TZID=UTC:20260729T090000
DTEND;TZID=UTC:20260729T150000
DTSTAMP:20260420T162105
CREATED:20231130T152239Z
LAST-MODIFIED:20231204T181706Z
UID:10000869-1785315600-1785337200@franklinvna.org
SUMMARY:Foot Clinics Franklin VNA
DESCRIPTION:Every Wednesday Foot Clinics at Franklin VNA and Hospice from 9am-3pm
URL:https://franklinvna.org/event/foot-clinics-franklin-vna/2026-07-29/
LOCATION:Franklin VNA and Hospice
END:VEVENT
BEGIN:VEVENT
DTSTART;TZID=UTC:20260805T090000
DTEND;TZID=UTC:20260805T150000
DTSTAMP:20260420T162105
CREATED:20231130T152239Z
LAST-MODIFIED:20231204T181706Z
UID:10000870-1785920400-1785942000@franklinvna.org
SUMMARY:Foot Clinics Franklin VNA
DESCRIPTION:Every Wednesday Foot Clinics at Franklin VNA and Hospice from 9am-3pm
URL:https://franklinvna.org/event/foot-clinics-franklin-vna/2026-08-05/
LOCATION:Franklin VNA and Hospice
END:VEVENT
BEGIN:VEVENT
DTSTART;TZID=UTC:20260806T111500
DTEND;TZID=UTC:20260806T120000
DTSTAMP:20260420T162105
CREATED:20231115T185844Z
LAST-MODIFIED:20231204T180722Z
UID:10000041-1786014900-1786017600@franklinvna.org
SUMMARY:Blood Pressure Clinic ( Salisbury Senior Center)
DESCRIPTION:First Thursday of the month Blood Pressure Clinic
URL:https://franklinvna.org/event/blood-pressure-clinic-salisbury/2026-08-06/
LOCATION:Salisbury Senior Center
END:VEVENT
BEGIN:VEVENT
DTSTART;TZID=UTC:20260811T103000
DTEND;TZID=UTC:20260811T113000
DTSTAMP:20260420T162105
CREATED:20231130T151444Z
LAST-MODIFIED:20231204T181529Z
UID:10000403-1786444200-1786447800@franklinvna.org
SUMMARY:Blood Pressure Clinic ( Belmont Senior Center)
DESCRIPTION:Second Tuesday of the month Blood Pressure Clinic
URL:https://franklinvna.org/event/blood-pressure-clinic-belmont-senior-center/2026-08-11/
LOCATION:14 Mill St\, Belmont
END:VEVENT
BEGIN:VEVENT
DTSTART;TZID=UTC:20260811T103000
DTEND;TZID=UTC:20260811T113000
DTSTAMP:20260420T162105
CREATED:20240415T160256Z
LAST-MODIFIED:20240415T161136Z
UID:10001019-1786444200-1786447800@franklinvna.org
SUMMARY:Blood Pressure Clinic ( Laconia Senior Center)
DESCRIPTION:Second Tuesday of the month Blood Pressure Clinic
URL:https://franklinvna.org/event/blood-pressure-clinic-laconia-senior-center/2026-08-11/
LOCATION:Beacon Street West\, Laconia
END:VEVENT
BEGIN:VEVENT
DTSTART;TZID=UTC:20260811T133000
DTEND;TZID=UTC:20260811T153000
DTSTAMP:20260420T162105
CREATED:20251211T190207Z
LAST-MODIFIED:20251211T190224Z
UID:10003023-1786455000-1786462200@franklinvna.org
SUMMARY:Dementia Caregiver Support Group
DESCRIPTION:See PDF > https://franklinvna.org/wp-content/uploads/2025/12/Dementia-Caregiver-Support-Group.jpg
URL:https://franklinvna.org/event/dementia-caregiver-support-group/2026-08-11/
END:VEVENT
BEGIN:VEVENT
DTSTART;TZID=UTC:20260812T090000
DTEND;TZID=UTC:20260812T150000
DTSTAMP:20260420T162105
CREATED:20231130T152239Z
LAST-MODIFIED:20231204T181706Z
UID:10000871-1786525200-1786546800@franklinvna.org
SUMMARY:Foot Clinics Franklin VNA
DESCRIPTION:Every Wednesday Foot Clinics at Franklin VNA and Hospice from 9am-3pm
URL:https://franklinvna.org/event/foot-clinics-franklin-vna/2026-08-12/
LOCATION:Franklin VNA and Hospice
END:VEVENT
BEGIN:VEVENT
DTSTART;TZID=UTC:20260819T090000
DTEND;TZID=UTC:20260819T150000
DTSTAMP:20260420T162105
CREATED:20231130T152239Z
LAST-MODIFIED:20231204T181706Z
UID:10000872-1787130000-1787151600@franklinvna.org
SUMMARY:Foot Clinics Franklin VNA
DESCRIPTION:Every Wednesday Foot Clinics at Franklin VNA and Hospice from 9am-3pm
URL:https://franklinvna.org/event/foot-clinics-franklin-vna/2026-08-19/
LOCATION:Franklin VNA and Hospice
END:VEVENT
BEGIN:VEVENT
DTSTART;TZID=UTC:20260820T103000
DTEND;TZID=UTC:20260820T113000
DTSTAMP:20260420T162105
CREATED:20231130T151643Z
LAST-MODIFIED:20231204T181358Z
UID:10000523-1787221800-1787225400@franklinvna.org
SUMMARY:Blood Pressure Clinic ( Tilton Senior Center)
DESCRIPTION:Third Thursday of the month Blood Pressure Clinic
URL:https://franklinvna.org/event/blood-pressure-clinic-tilton-senior-center/2026-08-20/
LOCATION:Grange Rd\, Tilton
END:VEVENT
BEGIN:VEVENT
DTSTART;TZID=UTC:20260821T130000
DTEND;TZID=UTC:20260821T150000
DTSTAMP:20260420T162105
CREATED:20250113T200344Z
LAST-MODIFIED:20250113T200349Z
UID:10001166-1787317200-1787324400@franklinvna.org
SUMMARY:Drop-In Friday Social Worker Sessions
DESCRIPTION:
URL:https://franklinvna.org/event/drop-in-friday-social-worker-sessions/2026-08-21/
LOCATION:Franklin VNA and Hospice
END:VEVENT
BEGIN:VEVENT
DTSTART;TZID=UTC:20260825T103000
DTEND;TZID=UTC:20260825T113000
DTSTAMP:20260420T162105
CREATED:20231130T151918Z
LAST-MODIFIED:20231204T181000Z
UID:10000643-1787653800-1787657400@franklinvna.org
SUMMARY:Blood Pressure Clinic ( Trip Center Franklin)
DESCRIPTION:Fourth Tuesday of the month Blood Pressure Clinic
URL:https://franklinvna.org/event/blood-pressure-clinic-trip-center-franklin/2026-08-25/
LOCATION:Tripp Center\, 12 Rowell Dr\, Franklin\, New Hampshire\, United States
END:VEVENT
BEGIN:VEVENT
DTSTART;TZID=UTC:20260826T090000
DTEND;TZID=UTC:20260826T150000
DTSTAMP:20260420T162105
CREATED:20231130T152239Z
LAST-MODIFIED:20231204T181706Z
UID:10000873-1787734800-1787756400@franklinvna.org
SUMMARY:Foot Clinics Franklin VNA
DESCRIPTION:Every Wednesday Foot Clinics at Franklin VNA and Hospice from 9am-3pm
URL:https://franklinvna.org/event/foot-clinics-franklin-vna/2026-08-26/
LOCATION:Franklin VNA and Hospice
END:VEVENT
BEGIN:VEVENT
DTSTART;TZID=UTC:20260902T090000
DTEND;TZID=UTC:20260902T150000
DTSTAMP:20260420T162105
CREATED:20231130T152239Z
LAST-MODIFIED:20231204T181706Z
UID:10000874-1788339600-1788361200@franklinvna.org
SUMMARY:Foot Clinics Franklin VNA
DESCRIPTION:Every Wednesday Foot Clinics at Franklin VNA and Hospice from 9am-3pm
URL:https://franklinvna.org/event/foot-clinics-franklin-vna/2026-09-02/
LOCATION:Franklin VNA and Hospice
END:VEVENT
BEGIN:VEVENT
DTSTART;TZID=UTC:20260903T111500
DTEND;TZID=UTC:20260903T120000
DTSTAMP:20260420T162105
CREATED:20231115T185844Z
LAST-MODIFIED:20231204T180722Z
UID:10000042-1788434100-1788436800@franklinvna.org
SUMMARY:Blood Pressure Clinic ( Salisbury Senior Center)
DESCRIPTION:First Thursday of the month Blood Pressure Clinic
URL:https://franklinvna.org/event/blood-pressure-clinic-salisbury/2026-09-03/
LOCATION:Salisbury Senior Center
END:VEVENT
BEGIN:VEVENT
DTSTART;TZID=UTC:20260908T103000
DTEND;TZID=UTC:20260908T113000
DTSTAMP:20260420T162105
CREATED:20231130T151444Z
LAST-MODIFIED:20231204T181529Z
UID:10000404-1788863400-1788867000@franklinvna.org
SUMMARY:Blood Pressure Clinic ( Belmont Senior Center)
DESCRIPTION:Second Tuesday of the month Blood Pressure Clinic
URL:https://franklinvna.org/event/blood-pressure-clinic-belmont-senior-center/2026-09-08/
LOCATION:14 Mill St\, Belmont
END:VEVENT
BEGIN:VEVENT
DTSTART;TZID=UTC:20260908T103000
DTEND;TZID=UTC:20260908T113000
DTSTAMP:20260420T162105
CREATED:20240415T160256Z
LAST-MODIFIED:20240415T161136Z
UID:10001020-1788863400-1788867000@franklinvna.org
SUMMARY:Blood Pressure Clinic ( Laconia Senior Center)
DESCRIPTION:Second Tuesday of the month Blood Pressure Clinic
URL:https://franklinvna.org/event/blood-pressure-clinic-laconia-senior-center/2026-09-08/
LOCATION:Beacon Street West\, Laconia
END:VEVENT
BEGIN:VEVENT
DTSTART;TZID=UTC:20260908T133000
DTEND;TZID=UTC:20260908T153000
DTSTAMP:20260420T162105
CREATED:20251211T190207Z
LAST-MODIFIED:20251211T190224Z
UID:10003024-1788874200-1788881400@franklinvna.org
SUMMARY:Dementia Caregiver Support Group
DESCRIPTION:See PDF > https://franklinvna.org/wp-content/uploads/2025/12/Dementia-Caregiver-Support-Group.jpg
URL:https://franklinvna.org/event/dementia-caregiver-support-group/2026-09-08/
END:VEVENT
BEGIN:VEVENT
DTSTART;TZID=UTC:20260909T090000
DTEND;TZID=UTC:20260909T150000
DTSTAMP:20260420T162105
CREATED:20231130T152239Z
LAST-MODIFIED:20231204T181706Z
UID:10000875-1788944400-1788966000@franklinvna.org
SUMMARY:Foot Clinics Franklin VNA
DESCRIPTION:Every Wednesday Foot Clinics at Franklin VNA and Hospice from 9am-3pm
URL:https://franklinvna.org/event/foot-clinics-franklin-vna/2026-09-09/
LOCATION:Franklin VNA and Hospice
END:VEVENT
BEGIN:VEVENT
DTSTART;TZID=UTC:20260916T090000
DTEND;TZID=UTC:20260916T150000
DTSTAMP:20260420T162105
CREATED:20231130T152239Z
LAST-MODIFIED:20231204T181706Z
UID:10000876-1789549200-1789570800@franklinvna.org
SUMMARY:Foot Clinics Franklin VNA
DESCRIPTION:Every Wednesday Foot Clinics at Franklin VNA and Hospice from 9am-3pm
URL:https://franklinvna.org/event/foot-clinics-franklin-vna/2026-09-16/
LOCATION:Franklin VNA and Hospice
END:VEVENT
BEGIN:VEVENT
DTSTART;TZID=UTC:20260917T103000
DTEND;TZID=UTC:20260917T113000
DTSTAMP:20260420T162105
CREATED:20231130T151643Z
LAST-MODIFIED:20231204T181358Z
UID:10000524-1789641000-1789644600@franklinvna.org
SUMMARY:Blood Pressure Clinic ( Tilton Senior Center)
DESCRIPTION:Third Thursday of the month Blood Pressure Clinic
URL:https://franklinvna.org/event/blood-pressure-clinic-tilton-senior-center/2026-09-17/
LOCATION:Grange Rd\, Tilton
END:VEVENT
BEGIN:VEVENT
DTSTART;TZID=UTC:20260918T130000
DTEND;TZID=UTC:20260918T150000
DTSTAMP:20260420T162105
CREATED:20250113T200344Z
LAST-MODIFIED:20250113T200349Z
UID:10001167-1789736400-1789743600@franklinvna.org
SUMMARY:Drop-In Friday Social Worker Sessions
DESCRIPTION:
URL:https://franklinvna.org/event/drop-in-friday-social-worker-sessions/2026-09-18/
LOCATION:Franklin VNA and Hospice
END:VEVENT
BEGIN:VEVENT
DTSTART;TZID=UTC:20260922T103000
DTEND;TZID=UTC:20260922T113000
DTSTAMP:20260420T162105
CREATED:20231130T151918Z
LAST-MODIFIED:20231204T181000Z
UID:10000644-1790073000-1790076600@franklinvna.org
SUMMARY:Blood Pressure Clinic ( Trip Center Franklin)
DESCRIPTION:Fourth Tuesday of the month Blood Pressure Clinic
URL:https://franklinvna.org/event/blood-pressure-clinic-trip-center-franklin/2026-09-22/
LOCATION:Tripp Center\, 12 Rowell Dr\, Franklin\, New Hampshire\, United States
END:VEVENT
BEGIN:VEVENT
DTSTART;TZID=UTC:20260923T090000
DTEND;TZID=UTC:20260923T150000
DTSTAMP:20260420T162105
CREATED:20231130T152239Z
LAST-MODIFIED:20231204T181706Z
UID:10000877-1790154000-1790175600@franklinvna.org
SUMMARY:Foot Clinics Franklin VNA
DESCRIPTION:Every Wednesday Foot Clinics at Franklin VNA and Hospice from 9am-3pm
URL:https://franklinvna.org/event/foot-clinics-franklin-vna/2026-09-23/
LOCATION:Franklin VNA and Hospice
END:VEVENT
BEGIN:VEVENT
DTSTART;TZID=UTC:20260930T090000
DTEND;TZID=UTC:20260930T150000
DTSTAMP:20260420T162106
CREATED:20231130T152239Z
LAST-MODIFIED:20231204T181706Z
UID:10000878-1790758800-1790780400@franklinvna.org
SUMMARY:Foot Clinics Franklin VNA
DESCRIPTION:Every Wednesday Foot Clinics at Franklin VNA and Hospice from 9am-3pm
URL:https://franklinvna.org/event/foot-clinics-franklin-vna/2026-09-30/
LOCATION:Franklin VNA and Hospice
END:VEVENT
END:VCALENDAR