BEGIN:VCALENDAR
VERSION:2.0
PRODID:-//Franklin VNA &amp; Hospice - ECPv6.15.18//NONSGML v1.0//EN
CALSCALE:GREGORIAN
METHOD:PUBLISH
X-WR-CALNAME:Franklin VNA &amp; Hospice
X-ORIGINAL-URL:https://franklinvna.org
X-WR-CALDESC:Events for Franklin VNA &amp; Hospice
REFRESH-INTERVAL;VALUE=DURATION:PT1H
X-Robots-Tag:noindex
X-PUBLISHED-TTL:PT1H
BEGIN:VTIMEZONE
TZID:UTC
BEGIN:STANDARD
TZOFFSETFROM:+0000
TZOFFSETTO:+0000
TZNAME:UTC
DTSTART:20240101T000000
END:STANDARD
END:VTIMEZONE
BEGIN:VEVENT
DTSTART;TZID=UTC:20260305T111500
DTEND;TZID=UTC:20260305T120000
DTSTAMP:20260420T144120
CREATED:20231115T185844Z
LAST-MODIFIED:20231204T180722Z
UID:10000036-1772709300-1772712000@franklinvna.org
SUMMARY:Blood Pressure Clinic ( Salisbury Senior Center)
DESCRIPTION:First Thursday of the month Blood Pressure Clinic
URL:https://franklinvna.org/event/blood-pressure-clinic-salisbury/2026-03-05/
LOCATION:Salisbury Senior Center
END:VEVENT
BEGIN:VEVENT
DTSTART;TZID=UTC:20260304T090000
DTEND;TZID=UTC:20260304T150000
DTSTAMP:20260420T144120
CREATED:20231130T152239Z
LAST-MODIFIED:20231204T181706Z
UID:10000848-1772614800-1772636400@franklinvna.org
SUMMARY:Foot Clinics Franklin VNA
DESCRIPTION:Every Wednesday Foot Clinics at Franklin VNA and Hospice from 9am-3pm
URL:https://franklinvna.org/event/foot-clinics-franklin-vna/2026-03-04/
LOCATION:Franklin VNA and Hospice
END:VEVENT
BEGIN:VEVENT
DTSTART;TZID=UTC:20260225T090000
DTEND;TZID=UTC:20260225T150000
DTSTAMP:20260420T144120
CREATED:20231130T152239Z
LAST-MODIFIED:20231204T181706Z
UID:10000847-1772010000-1772031600@franklinvna.org
SUMMARY:Foot Clinics Franklin VNA
DESCRIPTION:Every Wednesday Foot Clinics at Franklin VNA and Hospice from 9am-3pm
URL:https://franklinvna.org/event/foot-clinics-franklin-vna/2026-02-25/
LOCATION:Franklin VNA and Hospice
END:VEVENT
BEGIN:VEVENT
DTSTART;TZID=UTC:20260224T103000
DTEND;TZID=UTC:20260224T113000
DTSTAMP:20260420T144120
CREATED:20231130T151918Z
LAST-MODIFIED:20231204T181000Z
UID:10000637-1771929000-1771932600@franklinvna.org
SUMMARY:Blood Pressure Clinic ( Trip Center Franklin)
DESCRIPTION:Fourth Tuesday of the month Blood Pressure Clinic
URL:https://franklinvna.org/event/blood-pressure-clinic-trip-center-franklin/2026-02-24/
LOCATION:Tripp Center\, 12 Rowell Dr\, Franklin\, New Hampshire\, United States
END:VEVENT
BEGIN:VEVENT
DTSTART;TZID=UTC:20260220T130000
DTEND;TZID=UTC:20260220T150000
DTSTAMP:20260420T144120
CREATED:20250113T200344Z
LAST-MODIFIED:20250113T200349Z
UID:10001160-1771592400-1771599600@franklinvna.org
SUMMARY:Drop-In Friday Social Worker Sessions
DESCRIPTION:
URL:https://franklinvna.org/event/drop-in-friday-social-worker-sessions/2026-02-20/
LOCATION:Franklin VNA and Hospice
END:VEVENT
BEGIN:VEVENT
DTSTART;TZID=UTC:20260219T103000
DTEND;TZID=UTC:20260219T113000
DTSTAMP:20260420T144120
CREATED:20231130T151643Z
LAST-MODIFIED:20231204T181358Z
UID:10000517-1771497000-1771500600@franklinvna.org
SUMMARY:Blood Pressure Clinic ( Tilton Senior Center)
DESCRIPTION:Third Thursday of the month Blood Pressure Clinic
URL:https://franklinvna.org/event/blood-pressure-clinic-tilton-senior-center/2026-02-19/
LOCATION:Grange Rd\, Tilton
END:VEVENT
BEGIN:VEVENT
DTSTART;TZID=UTC:20260218T090000
DTEND;TZID=UTC:20260218T150000
DTSTAMP:20260420T144120
CREATED:20231130T152239Z
LAST-MODIFIED:20231204T181706Z
UID:10000846-1771405200-1771426800@franklinvna.org
SUMMARY:Foot Clinics Franklin VNA
DESCRIPTION:Every Wednesday Foot Clinics at Franklin VNA and Hospice from 9am-3pm
URL:https://franklinvna.org/event/foot-clinics-franklin-vna/2026-02-18/
LOCATION:Franklin VNA and Hospice
END:VEVENT
BEGIN:VEVENT
DTSTART;TZID=UTC:20260211T090000
DTEND;TZID=UTC:20260211T150000
DTSTAMP:20260420T144120
CREATED:20231130T152239Z
LAST-MODIFIED:20231204T181706Z
UID:10000845-1770800400-1770822000@franklinvna.org
SUMMARY:Foot Clinics Franklin VNA
DESCRIPTION:Every Wednesday Foot Clinics at Franklin VNA and Hospice from 9am-3pm
URL:https://franklinvna.org/event/foot-clinics-franklin-vna/2026-02-11/
LOCATION:Franklin VNA and Hospice
END:VEVENT
BEGIN:VEVENT
DTSTART;TZID=UTC:20260210T133000
DTEND;TZID=UTC:20260210T153000
DTSTAMP:20260420T144120
CREATED:20251211T190207Z
LAST-MODIFIED:20251211T190224Z
UID:10003017-1770730200-1770737400@franklinvna.org
SUMMARY:Dementia Caregiver Support Group
DESCRIPTION:See PDF > https://franklinvna.org/wp-content/uploads/2025/12/Dementia-Caregiver-Support-Group.jpg
URL:https://franklinvna.org/event/dementia-caregiver-support-group/2026-02-10/
END:VEVENT
BEGIN:VEVENT
DTSTART;TZID=UTC:20260210T103000
DTEND;TZID=UTC:20260210T113000
DTSTAMP:20260420T144120
CREATED:20240415T160256Z
LAST-MODIFIED:20240415T161136Z
UID:10001013-1770719400-1770723000@franklinvna.org
SUMMARY:Blood Pressure Clinic ( Laconia Senior Center)
DESCRIPTION:Second Tuesday of the month Blood Pressure Clinic
URL:https://franklinvna.org/event/blood-pressure-clinic-laconia-senior-center/2026-02-10/
LOCATION:Beacon Street West\, Laconia
END:VEVENT
BEGIN:VEVENT
DTSTART;TZID=UTC:20260210T103000
DTEND;TZID=UTC:20260210T113000
DTSTAMP:20260420T144120
CREATED:20231130T151444Z
LAST-MODIFIED:20231204T181529Z
UID:10000397-1770719400-1770723000@franklinvna.org
SUMMARY:Blood Pressure Clinic ( Belmont Senior Center)
DESCRIPTION:Second Tuesday of the month Blood Pressure Clinic
URL:https://franklinvna.org/event/blood-pressure-clinic-belmont-senior-center/2026-02-10/
LOCATION:14 Mill St\, Belmont
END:VEVENT
BEGIN:VEVENT
DTSTART;TZID=UTC:20260205T111500
DTEND;TZID=UTC:20260205T120000
DTSTAMP:20260420T144120
CREATED:20231115T185844Z
LAST-MODIFIED:20231204T180722Z
UID:10000035-1770290100-1770292800@franklinvna.org
SUMMARY:Blood Pressure Clinic ( Salisbury Senior Center)
DESCRIPTION:First Thursday of the month Blood Pressure Clinic
URL:https://franklinvna.org/event/blood-pressure-clinic-salisbury/2026-02-05/
LOCATION:Salisbury Senior Center
END:VEVENT
BEGIN:VEVENT
DTSTART;TZID=UTC:20260204T090000
DTEND;TZID=UTC:20260204T150000
DTSTAMP:20260420T144120
CREATED:20231130T152239Z
LAST-MODIFIED:20231204T181706Z
UID:10000844-1770195600-1770217200@franklinvna.org
SUMMARY:Foot Clinics Franklin VNA
DESCRIPTION:Every Wednesday Foot Clinics at Franklin VNA and Hospice from 9am-3pm
URL:https://franklinvna.org/event/foot-clinics-franklin-vna/2026-02-04/
LOCATION:Franklin VNA and Hospice
END:VEVENT
BEGIN:VEVENT
DTSTART;TZID=UTC:20260128T090000
DTEND;TZID=UTC:20260128T150000
DTSTAMP:20260420T144120
CREATED:20231130T152239Z
LAST-MODIFIED:20231204T181706Z
UID:10000843-1769590800-1769612400@franklinvna.org
SUMMARY:Foot Clinics Franklin VNA
DESCRIPTION:Every Wednesday Foot Clinics at Franklin VNA and Hospice from 9am-3pm
URL:https://franklinvna.org/event/foot-clinics-franklin-vna/2026-01-28/
LOCATION:Franklin VNA and Hospice
END:VEVENT
BEGIN:VEVENT
DTSTART;TZID=UTC:20260127T103000
DTEND;TZID=UTC:20260127T113000
DTSTAMP:20260420T144120
CREATED:20231130T151918Z
LAST-MODIFIED:20231204T181000Z
UID:10000636-1769509800-1769513400@franklinvna.org
SUMMARY:Blood Pressure Clinic ( Trip Center Franklin)
DESCRIPTION:Fourth Tuesday of the month Blood Pressure Clinic
URL:https://franklinvna.org/event/blood-pressure-clinic-trip-center-franklin/2026-01-27/
LOCATION:Tripp Center\, 12 Rowell Dr\, Franklin\, New Hampshire\, United States
END:VEVENT
BEGIN:VEVENT
DTSTART;TZID=UTC:20260121T090000
DTEND;TZID=UTC:20260121T150000
DTSTAMP:20260420T144120
CREATED:20231130T152239Z
LAST-MODIFIED:20231204T181706Z
UID:10000842-1768986000-1769007600@franklinvna.org
SUMMARY:Foot Clinics Franklin VNA
DESCRIPTION:Every Wednesday Foot Clinics at Franklin VNA and Hospice from 9am-3pm
URL:https://franklinvna.org/event/foot-clinics-franklin-vna/2026-01-21/
LOCATION:Franklin VNA and Hospice
END:VEVENT
BEGIN:VEVENT
DTSTART;TZID=UTC:20260120T080000
DTEND;TZID=UTC:20260120T170000
DTSTAMP:20260420T144120
CREATED:20251211T184257Z
LAST-MODIFIED:20251211T184257Z
UID:10001131-1768896000-1768928400@franklinvna.org
SUMMARY:Drop-In Grief Group
DESCRIPTION:
URL:https://franklinvna.org/event/drop-in-grief-group-2/
LOCATION:Franklin VNA and Hospice
END:VEVENT
BEGIN:VEVENT
DTSTART;TZID=UTC:20260116T130000
DTEND;TZID=UTC:20260116T150000
DTSTAMP:20260420T144120
CREATED:20250113T200344Z
LAST-MODIFIED:20250113T200349Z
UID:10001159-1768568400-1768575600@franklinvna.org
SUMMARY:Drop-In Friday Social Worker Sessions
DESCRIPTION:
URL:https://franklinvna.org/event/drop-in-friday-social-worker-sessions/2026-01-16/
LOCATION:Franklin VNA and Hospice
END:VEVENT
BEGIN:VEVENT
DTSTART;TZID=UTC:20260115T103000
DTEND;TZID=UTC:20260115T113000
DTSTAMP:20260420T144120
CREATED:20231130T151643Z
LAST-MODIFIED:20231204T181358Z
UID:10000516-1768473000-1768476600@franklinvna.org
SUMMARY:Blood Pressure Clinic ( Tilton Senior Center)
DESCRIPTION:Third Thursday of the month Blood Pressure Clinic
URL:https://franklinvna.org/event/blood-pressure-clinic-tilton-senior-center/2026-01-15/
LOCATION:Grange Rd\, Tilton
END:VEVENT
BEGIN:VEVENT
DTSTART;TZID=UTC:20260114T090000
DTEND;TZID=UTC:20260114T150000
DTSTAMP:20260420T144120
CREATED:20231130T152239Z
LAST-MODIFIED:20231204T181706Z
UID:10000841-1768381200-1768402800@franklinvna.org
SUMMARY:Foot Clinics Franklin VNA
DESCRIPTION:Every Wednesday Foot Clinics at Franklin VNA and Hospice from 9am-3pm
URL:https://franklinvna.org/event/foot-clinics-franklin-vna/2026-01-14/
LOCATION:Franklin VNA and Hospice
END:VEVENT
BEGIN:VEVENT
DTSTART;TZID=UTC:20260113T133000
DTEND;TZID=UTC:20260113T153000
DTSTAMP:20260420T144120
CREATED:20251223T152844Z
LAST-MODIFIED:20251223T152844Z
UID:10003016-1768311000-1768318200@franklinvna.org
SUMMARY:Dementia Caregiver Support Group
DESCRIPTION:See PDF > https://franklinvna.org/wp-content/uploads/2025/12/Dementia-Caregiver-Support-Group.jpg
URL:https://franklinvna.org/event/dementia-caregiver-support-group-2/
END:VEVENT
BEGIN:VEVENT
DTSTART;TZID=UTC:20260113T103000
DTEND;TZID=UTC:20260113T113000
DTSTAMP:20260420T144120
CREATED:20240415T160256Z
LAST-MODIFIED:20240415T161136Z
UID:10001012-1768300200-1768303800@franklinvna.org
SUMMARY:Blood Pressure Clinic ( Laconia Senior Center)
DESCRIPTION:Second Tuesday of the month Blood Pressure Clinic
URL:https://franklinvna.org/event/blood-pressure-clinic-laconia-senior-center/2026-01-13/
LOCATION:Beacon Street West\, Laconia
END:VEVENT
BEGIN:VEVENT
DTSTART;TZID=UTC:20260113T103000
DTEND;TZID=UTC:20260113T113000
DTSTAMP:20260420T144120
CREATED:20231130T151444Z
LAST-MODIFIED:20231204T181529Z
UID:10000396-1768300200-1768303800@franklinvna.org
SUMMARY:Blood Pressure Clinic ( Belmont Senior Center)
DESCRIPTION:Second Tuesday of the month Blood Pressure Clinic
URL:https://franklinvna.org/event/blood-pressure-clinic-belmont-senior-center/2026-01-13/
LOCATION:14 Mill St\, Belmont
END:VEVENT
BEGIN:VEVENT
DTSTART;TZID=UTC:20260107T090000
DTEND;TZID=UTC:20260107T150000
DTSTAMP:20260420T144120
CREATED:20231130T152239Z
LAST-MODIFIED:20231204T181706Z
UID:10000840-1767776400-1767798000@franklinvna.org
SUMMARY:Foot Clinics Franklin VNA
DESCRIPTION:Every Wednesday Foot Clinics at Franklin VNA and Hospice from 9am-3pm
URL:https://franklinvna.org/event/foot-clinics-franklin-vna/2026-01-07/
LOCATION:Franklin VNA and Hospice
END:VEVENT
BEGIN:VEVENT
DTSTART;TZID=UTC:20260101T111500
DTEND;TZID=UTC:20260101T120000
DTSTAMP:20260420T144120
CREATED:20231115T185844Z
LAST-MODIFIED:20231204T180722Z
UID:10000034-1767266100-1767268800@franklinvna.org
SUMMARY:Blood Pressure Clinic ( Salisbury Senior Center)
DESCRIPTION:First Thursday of the month Blood Pressure Clinic
URL:https://franklinvna.org/event/blood-pressure-clinic-salisbury/2026-01-01/
LOCATION:Salisbury Senior Center
END:VEVENT
BEGIN:VEVENT
DTSTART;TZID=UTC:20251231T090000
DTEND;TZID=UTC:20251231T150000
DTSTAMP:20260420T144120
CREATED:20231130T152239Z
LAST-MODIFIED:20231204T181706Z
UID:10000839-1767171600-1767193200@franklinvna.org
SUMMARY:Foot Clinics Franklin VNA
DESCRIPTION:Every Wednesday Foot Clinics at Franklin VNA and Hospice from 9am-3pm
URL:https://franklinvna.org/event/foot-clinics-franklin-vna/2025-12-31/
LOCATION:Franklin VNA and Hospice
END:VEVENT
BEGIN:VEVENT
DTSTART;TZID=UTC:20251224T090000
DTEND;TZID=UTC:20251224T150000
DTSTAMP:20260420T144120
CREATED:20231130T152239Z
LAST-MODIFIED:20231204T181706Z
UID:10000838-1766566800-1766588400@franklinvna.org
SUMMARY:Foot Clinics Franklin VNA
DESCRIPTION:Every Wednesday Foot Clinics at Franklin VNA and Hospice from 9am-3pm
URL:https://franklinvna.org/event/foot-clinics-franklin-vna/2025-12-24/
LOCATION:Franklin VNA and Hospice
END:VEVENT
BEGIN:VEVENT
DTSTART;TZID=UTC:20251223T103000
DTEND;TZID=UTC:20251223T113000
DTSTAMP:20260420T144120
CREATED:20231130T151918Z
LAST-MODIFIED:20231204T181000Z
UID:10000635-1766485800-1766489400@franklinvna.org
SUMMARY:Blood Pressure Clinic ( Trip Center Franklin)
DESCRIPTION:Fourth Tuesday of the month Blood Pressure Clinic
URL:https://franklinvna.org/event/blood-pressure-clinic-trip-center-franklin/2025-12-23/
LOCATION:Tripp Center\, 12 Rowell Dr\, Franklin\, New Hampshire\, United States
END:VEVENT
BEGIN:VEVENT
DTSTART;TZID=UTC:20251219T130000
DTEND;TZID=UTC:20251219T150000
DTSTAMP:20260420T144120
CREATED:20250113T200344Z
LAST-MODIFIED:20250113T200349Z
UID:10001158-1766149200-1766156400@franklinvna.org
SUMMARY:Drop-In Friday Social Worker Sessions
DESCRIPTION:
URL:https://franklinvna.org/event/drop-in-friday-social-worker-sessions/2025-12-19/
LOCATION:Franklin VNA and Hospice
END:VEVENT
BEGIN:VEVENT
DTSTART;TZID=UTC:20251218T103000
DTEND;TZID=UTC:20251218T113000
DTSTAMP:20260420T144120
CREATED:20231130T151643Z
LAST-MODIFIED:20231204T181358Z
UID:10000515-1766053800-1766057400@franklinvna.org
SUMMARY:Blood Pressure Clinic ( Tilton Senior Center)
DESCRIPTION:Third Thursday of the month Blood Pressure Clinic
URL:https://franklinvna.org/event/blood-pressure-clinic-tilton-senior-center/2025-12-18/
LOCATION:Grange Rd\, Tilton
END:VEVENT
END:VCALENDAR