BEGIN:VCALENDAR
VERSION:2.0
PRODID:-//Franklin VNA &amp; Hospice - ECPv6.15.18//NONSGML v1.0//EN
CALSCALE:GREGORIAN
METHOD:PUBLISH
X-WR-CALNAME:Franklin VNA &amp; Hospice
X-ORIGINAL-URL:https://franklinvna.org
X-WR-CALDESC:Events for Franklin VNA &amp; Hospice
REFRESH-INTERVAL;VALUE=DURATION:PT1H
X-Robots-Tag:noindex
X-PUBLISHED-TTL:PT1H
BEGIN:VTIMEZONE
TZID:UTC
BEGIN:STANDARD
TZOFFSETFROM:+0000
TZOFFSETTO:+0000
TZNAME:UTC
DTSTART:20250101T000000
END:STANDARD
END:VTIMEZONE
BEGIN:VEVENT
DTSTART;TZID=UTC:20260430T120000
DTEND;TZID=UTC:20260430T150000
DTSTAMP:20260423T082736
CREATED:20260326T180655Z
LAST-MODIFIED:20260326T180655Z
UID:10003077-1777550400-1777561200@franklinvna.org
SUMMARY:Hospice Volunteer Training
DESCRIPTION:Cherrie Murray at 603-934-3454.or cmurray@franklinvna.org to register\,
URL:https://franklinvna.org/event/hospice-volunteer-training/
END:VEVENT
END:VCALENDAR